BEGIN:VCALENDAR
VERSION:2.0
PRODID:-//Pattishall Parish Council//Meeting Calendar//EN
CALSCALE:GREGORIAN
METHOD:PUBLISH
BEGIN:VEVENT
UID:70619-20240111@pattishallparish.gov.uk
DTSTAMP:20260425T121459Z
DTSTART;VALUE=DATE:20240111
DTEND;VALUE=DATE:20240112
SUMMARY:Council Meeting &#8211\\; 11 January 2024
DESCRIPTION:Full Council Meeting\nView details: https://pattishallparish.gov.uk/meetings/council-meeting-11-january-2024/
URL:https://pattishallparish.gov.uk/meetings/council-meeting-11-january-2024/
END:VEVENT
END:VCALENDAR
